BEGIN:VCALENDAR
VERSION:2.0
PRODID:-//The Funplex East Hanover - ECPv6.15.17//NONSGML v1.0//EN
CALSCALE:GREGORIAN
METHOD:PUBLISH
X-WR-CALNAME:The Funplex East Hanover
X-ORIGINAL-URL:https://thefunplex.com/east-hanover
X-WR-CALDESC:Events for The Funplex East Hanover
REFRESH-INTERVAL;VALUE=DURATION:PT1H
X-Robots-Tag:noindex
X-PUBLISHED-TTL:PT1H
BEGIN:VTIMEZONE
TZID:America/New_York
BEGIN:DAYLIGHT
TZOFFSETFROM:-0500
TZOFFSETTO:-0400
TZNAME:EDT
DTSTART:20250309T070000
END:DAYLIGHT
BEGIN:STANDARD
TZOFFSETFROM:-0400
TZOFFSETTO:-0500
TZNAME:EST
DTSTART:20251102T060000
END:STANDARD
BEGIN:DAYLIGHT
TZOFFSETFROM:-0500
TZOFFSETTO:-0400
TZNAME:EDT
DTSTART:20260308T070000
END:DAYLIGHT
BEGIN:STANDARD
TZOFFSETFROM:-0400
TZOFFSETTO:-0500
TZNAME:EST
DTSTART:20261101T060000
END:STANDARD
BEGIN:DAYLIGHT
TZOFFSETFROM:-0500
TZOFFSETTO:-0400
TZNAME:EDT
DTSTART:20270314T070000
END:DAYLIGHT
BEGIN:STANDARD
TZOFFSETFROM:-0400
TZOFFSETTO:-0500
TZNAME:EST
DTSTART:20271107T060000
END:STANDARD
END:VTIMEZONE
BEGIN:VEVENT
DTSTART;TZID=America/New_York:20260620T210000
DTEND;TZID=America/New_York:20260621T010000
DTSTAMP:20260422T063126
CREATED:20260420T201800Z
LAST-MODIFIED:20260420T201800Z
UID:10000141-1781989200-1782003600@thefunplex.com
SUMMARY:21+ Tropic Like It’s Hot: Summer After Dark Series
DESCRIPTION: 9:00 PM – 1:00 AM \nFunplex After Dark returns June through September for the hottest nights of the summer. This limited-availability event is strictly for guests ages 21 and over\, and a valid ID is required for entry. Guests can enjoy late-night access to Splashplex Waterpark\, live DJ entertainment\, bars\, and nonstop summer energy in an unforgettable after-hours atmosphere.\nTickets are $59 and include unlimited indoor and outdoor rides and attractions\, a $5 game card\, and access to the Splashplex Waterpark. Parking is available on-site for $5 per car.\n \nLooking for more dates?\nBe sure to check our event’s page for other After Dark dates this summer HERE!
URL:https://thefunplex.com/east-hanover/event/21-tropic-like-its-hot-2026/2026-06-20/
LOCATION:The Funplex East Hanover\, 182 NJ-10\, East Hanover\, NJ\, 07936\, United States
ATTACH;FMTTYPE=image/png:https://thefunplex.com/east-hanover/wp-content/uploads/sites/3/2026/04/FAD_SummerSeries_event.png
END:VEVENT
BEGIN:VEVENT
DTSTART;TZID=America/New_York:20260710T210000
DTEND;TZID=America/New_York:20260711T010000
DTSTAMP:20260422T063126
CREATED:20260420T201800Z
LAST-MODIFIED:20260420T201800Z
UID:10000142-1783717200-1783731600@thefunplex.com
SUMMARY:21+ Tropic Like It’s Hot: Summer After Dark Series
DESCRIPTION: 9:00 PM – 1:00 AM \nFunplex After Dark returns June through September for the hottest nights of the summer. This limited-availability event is strictly for guests ages 21 and over\, and a valid ID is required for entry. Guests can enjoy late-night access to Splashplex Waterpark\, live DJ entertainment\, bars\, and nonstop summer energy in an unforgettable after-hours atmosphere.\nTickets are $59 and include unlimited indoor and outdoor rides and attractions\, a $5 game card\, and access to the Splashplex Waterpark. Parking is available on-site for $5 per car.\n \nLooking for more dates?\nBe sure to check our event’s page for other After Dark dates this summer HERE!
URL:https://thefunplex.com/east-hanover/event/21-tropic-like-its-hot-2026/2026-07-10/
LOCATION:The Funplex East Hanover\, 182 NJ-10\, East Hanover\, NJ\, 07936\, United States
ATTACH;FMTTYPE=image/png:https://thefunplex.com/east-hanover/wp-content/uploads/sites/3/2026/04/FAD_SummerSeries_event.png
END:VEVENT
BEGIN:VEVENT
DTSTART;TZID=America/New_York:20260724T210000
DTEND;TZID=America/New_York:20260725T010000
DTSTAMP:20260422T063126
CREATED:20260420T201800Z
LAST-MODIFIED:20260420T201800Z
UID:10000143-1784926800-1784941200@thefunplex.com
SUMMARY:21+ Tropic Like It’s Hot: Summer After Dark Series
DESCRIPTION: 9:00 PM – 1:00 AM \nFunplex After Dark returns June through September for the hottest nights of the summer. This limited-availability event is strictly for guests ages 21 and over\, and a valid ID is required for entry. Guests can enjoy late-night access to Splashplex Waterpark\, live DJ entertainment\, bars\, and nonstop summer energy in an unforgettable after-hours atmosphere.\nTickets are $59 and include unlimited indoor and outdoor rides and attractions\, a $5 game card\, and access to the Splashplex Waterpark. Parking is available on-site for $5 per car.\n \nLooking for more dates?\nBe sure to check our event’s page for other After Dark dates this summer HERE!
URL:https://thefunplex.com/east-hanover/event/21-tropic-like-its-hot-2026/2026-07-24/
LOCATION:The Funplex East Hanover\, 182 NJ-10\, East Hanover\, NJ\, 07936\, United States
ATTACH;FMTTYPE=image/png:https://thefunplex.com/east-hanover/wp-content/uploads/sites/3/2026/04/FAD_SummerSeries_event.png
END:VEVENT
BEGIN:VEVENT
DTSTART;TZID=America/New_York:20260807T210000
DTEND;TZID=America/New_York:20260808T010000
DTSTAMP:20260422T063126
CREATED:20260420T201800Z
LAST-MODIFIED:20260420T201800Z
UID:10000144-1786136400-1786150800@thefunplex.com
SUMMARY:21+ Tropic Like It’s Hot: Summer After Dark Series
DESCRIPTION: 9:00 PM – 1:00 AM \nFunplex After Dark returns June through September for the hottest nights of the summer. This limited-availability event is strictly for guests ages 21 and over\, and a valid ID is required for entry. Guests can enjoy late-night access to Splashplex Waterpark\, live DJ entertainment\, bars\, and nonstop summer energy in an unforgettable after-hours atmosphere.\nTickets are $59 and include unlimited indoor and outdoor rides and attractions\, a $5 game card\, and access to the Splashplex Waterpark. Parking is available on-site for $5 per car.\n \nLooking for more dates?\nBe sure to check our event’s page for other After Dark dates this summer HERE!
URL:https://thefunplex.com/east-hanover/event/21-tropic-like-its-hot-2026/2026-08-07/
LOCATION:The Funplex East Hanover\, 182 NJ-10\, East Hanover\, NJ\, 07936\, United States
ATTACH;FMTTYPE=image/png:https://thefunplex.com/east-hanover/wp-content/uploads/sites/3/2026/04/FAD_SummerSeries_event.png
END:VEVENT
BEGIN:VEVENT
DTSTART;TZID=America/New_York:20260821T210000
DTEND;TZID=America/New_York:20260822T010000
DTSTAMP:20260422T063126
CREATED:20260420T201800Z
LAST-MODIFIED:20260420T201800Z
UID:10000145-1787346000-1787360400@thefunplex.com
SUMMARY:21+ Tropic Like It’s Hot: Summer After Dark Series
DESCRIPTION: 9:00 PM – 1:00 AM \nFunplex After Dark returns June through September for the hottest nights of the summer. This limited-availability event is strictly for guests ages 21 and over\, and a valid ID is required for entry. Guests can enjoy late-night access to Splashplex Waterpark\, live DJ entertainment\, bars\, and nonstop summer energy in an unforgettable after-hours atmosphere.\nTickets are $59 and include unlimited indoor and outdoor rides and attractions\, a $5 game card\, and access to the Splashplex Waterpark. Parking is available on-site for $5 per car.\n \nLooking for more dates?\nBe sure to check our event’s page for other After Dark dates this summer HERE!
URL:https://thefunplex.com/east-hanover/event/21-tropic-like-its-hot-2026/2026-08-21/
LOCATION:The Funplex East Hanover\, 182 NJ-10\, East Hanover\, NJ\, 07936\, United States
ATTACH;FMTTYPE=image/png:https://thefunplex.com/east-hanover/wp-content/uploads/sites/3/2026/04/FAD_SummerSeries_event.png
END:VEVENT
BEGIN:VEVENT
DTSTART;TZID=America/New_York:20260904T210000
DTEND;TZID=America/New_York:20260905T010000
DTSTAMP:20260422T063126
CREATED:20260420T201800Z
LAST-MODIFIED:20260420T201800Z
UID:10000146-1788555600-1788570000@thefunplex.com
SUMMARY:21+ Tropic Like It’s Hot: Summer After Dark Series
DESCRIPTION: 9:00 PM – 1:00 AM \nFunplex After Dark returns June through September for the hottest nights of the summer. This limited-availability event is strictly for guests ages 21 and over\, and a valid ID is required for entry. Guests can enjoy late-night access to Splashplex Waterpark\, live DJ entertainment\, bars\, and nonstop summer energy in an unforgettable after-hours atmosphere.\nTickets are $59 and include unlimited indoor and outdoor rides and attractions\, a $5 game card\, and access to the Splashplex Waterpark. Parking is available on-site for $5 per car.\n \nLooking for more dates?\nBe sure to check our event’s page for other After Dark dates this summer HERE!
URL:https://thefunplex.com/east-hanover/event/21-tropic-like-its-hot-2026/2026-09-04/
LOCATION:The Funplex East Hanover\, 182 NJ-10\, East Hanover\, NJ\, 07936\, United States
ATTACH;FMTTYPE=image/png:https://thefunplex.com/east-hanover/wp-content/uploads/sites/3/2026/04/FAD_SummerSeries_event.png
END:VEVENT
END:VCALENDAR